BEGIN:VCALENDAR
VERSION:2.0
PRODID:Bierschinken Eventkalender
METHOD:PUBLISH
BEGIN:VEVENT
UID:alcoholic-faith-mission-dortmund@bierschinken.net
TZID:Europe/Berlin
LOCATION:FZW\, Ritterstr. 20\, 44137 Dortmund
SUMMARY:Alcoholic Faith Mission in Dortmund
DESCRIPTION:http://www.bierschinken.net/event/alcoholic-faith-mission-dortmund

FZW Indie Night 🌙✨

Am 26.05. wird’s wieder intim\, laut und besonders:
Die nächste Indie Night bringt euch zwei Acts\, die ihr auf dem Schirm haben solltet 👇

🎸 Alcoholic Faith Mission
Atmosphärischer Alternative-Sound aus Dänemark – zwischen Melancholie und großen Momenten.

🖤 Maitland
Indie / Dark Pop aus Münster – düster\, intensiv und mitreißend.

📅 26.05.2026
📍 FZW Dortmund

Kleine Bühne\, besondere Stimmung\, neue Lieblingsacts.
Kommt vorbei und entdeckt was Neues. 💫
CLASS:PUBLIC
DTSTART;VALUE=DATE:20260526
DTEND;VALUE=DATE:20260527
DTSTAMP:20260421T182200
GEO:51.514973\;7.450129
END:VEVENT
END:VCALENDAR
