BEGIN:VCALENDAR
VERSION:2.0
PRODID:Bierschinken Eventkalender
METHOD:PUBLISH
BEGIN:VEVENT
UID:codefendants-mailand@bierschinken.net
TZID:Europe/Berlin
LOCATION:Legend Club\, Viale Enrico Fermi\, 98\, 20161 Mailand (IT)
SUMMARY:Codefendants in Mailand (IT)
DESCRIPTION:http://www.bierschinken.net/event/codefendants-mailand


CLASS:PUBLIC
DTSTART;VALUE=DATE:20261106
DTEND;VALUE=DATE:20261107
DTSTAMP:20260420T163400
GEO:45.516159\;9.179438
END:VEVENT
END:VCALENDAR
