BEGIN:VCALENDAR
VERSION:2.0
PRODID:Bierschinken Eventkalender
METHOD:PUBLISH
BEGIN:VEVENT
UID:cosey-mueller-berlin@bierschinken.net
TZID:Europe/Berlin
LOCATION:SO 36\, Oranienstrasse 190\, 10999 Berlin
SUMMARY:Cosey Mueller in Berlin
DESCRIPTION:http://www.bierschinken.net/event/cosey-mueller-berlin

COSEY MUELLER Release Concert
With LIIEK + Das Beat
DJs DISKO PUNX
DJ RBB & DJ Platzwunde
At SO36 Berlin
29.05.2026
Doors 20:00
Start 21:00
Presented by Bretford Records
CLASS:PUBLIC
DTSTART;VALUE=DATE:20260529
DTEND;VALUE=DATE:20260530
DTSTAMP:20260409T221400
GEO:52.500423\;13.422466
END:VEVENT
END:VCALENDAR
