BEGIN:VCALENDAR
VERSION:2.0
PRODID:Bierschinken Eventkalender
METHOD:PUBLISH
BEGIN:VEVENT
UID:das-grosse-los-dortmund@bierschinken.net
TZID:Europe/Berlin
LOCATION:Ibis Dortmund City\, Märkische Str. 73\, 44139 Dortmund
SUMMARY:Das große Los in Dortmund
DESCRIPTION:http://www.bierschinken.net/event/das-grosse-los-dortmund

Einlass: 18:30 Uhr
Beginn: 20:00 Uhr 

Reservieren: https://shorturl.at/6UEpp
CLASS:PUBLIC
DTSTART;VALUE=DATE:20260423
DTEND;VALUE=DATE:20260424
DTSTAMP:20260421T114600
GEO:51.504093\;7.476597
END:VEVENT
END:VCALENDAR
