BEGIN:VCALENDAR
VERSION:2.0
PRODID:Bierschinken Eventkalender
METHOD:PUBLISH
BEGIN:VEVENT
UID:eel-men-hamburg@bierschinken.net
TZID:Europe/Berlin
LOCATION:Frau Hedi\, Landungsbrücken\, Brücke 10\, 20359 Hamburg
SUMMARY:Eel Men in Hamburg
DESCRIPTION:http://www.bierschinken.net/event/eel-men-hamburg

19:00 – 21:00 Uhr
Vvk 14\,- (zzgl. Vvk-Gebühr)\, Ak 16\,- 
CLASS:PUBLIC
DTSTART;VALUE=DATE:20260603
DTEND;VALUE=DATE:20260604
DTSTAMP:20260420T172900
GEO:53.551178\;9.964176
END:VEVENT
END:VCALENDAR
