BEGIN:VCALENDAR
VERSION:2.0
PRODID:Bierschinken Eventkalender
METHOD:PUBLISH
BEGIN:VEVENT
UID:feierabend-flohmarkt-ulm@bierschinken.net
TZID:Europe/Berlin
LOCATION:Anarres\, Mähringer Weg 75\, 89075 Ulm
SUMMARY:Feierabend Flohmarkt in Ulm
DESCRIPTION:http://www.bierschinken.net/event/feierabend-flohmarkt-ulm

Kommt am 13.03. entspannt nach der Arbeit vorbei\, stöbert durch Klamotten & selbstgemachte Kunst gegen Spende\, gönnt euch vegane Küfa und Drinks! 13.03.26 ab 17:30

https://www.instagram.com/anarresulm
CLASS:PUBLIC
DTSTART;VALUE=DATE:20260313
DTEND;VALUE=DATE:20260314
DTSTAMP:20260413T142300
GEO:48.410313\;9.963916
END:VEVENT
END:VCALENDAR
