BEGIN:VCALENDAR
VERSION:2.0
PRODID:Bierschinken Eventkalender
METHOD:PUBLISH
BEGIN:VEVENT
UID:hung-like-hanratty-bonn@bierschinken.net
TZID:Europe/Berlin
LOCATION:Kult 41\, Hochstadenring 41\, 53119 Bonn
SUMMARY:Hung Like Hanratty in Bonn
DESCRIPTION:http://www.bierschinken.net/event/hung-like-hanratty-bonn


CLASS:PUBLIC
DTSTART;VALUE=DATE:20260510
DTEND;VALUE=DATE:20260511
DTSTAMP:20260416T191200
GEO:50.73687\;7.086637
END:VEVENT
END:VCALENDAR
