BEGIN:VCALENDAR
VERSION:2.0
PRODID:Bierschinken Eventkalender
METHOD:PUBLISH
BEGIN:VEVENT
UID:jahre-az-koeln@bierschinken.net
TZID:Europe/Berlin
LOCATION:AZ\, Luxemburger Str. 93\, 50674 Köln
SUMMARY:16 Jahre AZ Köln  in Köln
DESCRIPTION:http://www.bierschinken.net/event/jahre-az-koeln

https://az-koeln.org/

Geburtstag vom AZ den ganzen Tag!


Programm

Ab 14 Uhr öffnet das AZ seine Türen und es stellen sich über den Nachmittag diverse Gruppen und Projekte aus dem AZ vor mit der Möglichkeit zum Kennenlernen und direkt mitmachen.

Um 18 Uhr laden wir zu einer großen Infoveranstaltung mit kurzem Rückblick auf die AZ Geschichte und Informationen zu den abgeschlossenen Verhandlungen mit der Stadt Köln sowie zur Zukunft des Autonomen Zentrum.
Im Anschluss heizen Euch zunächst Konzerte mit Laturb und Bronko so richtig ein\, bevor das Purple Pitch Kollektiv und Æsthetik & Zerstørung die Floors übernehmen und euch eine Auswahl unserer Lieblings-DJs elektronische Tanzmusik servieren.


Zeitplan

Offene Tür ab 14 Uhr:
Fahrradwerkstatt
Siebdruck
Infoladen
Umsonst Laden
Küfa von Küfa Deluxe
Kaffee & Kuchen von Kaffe Güzel

Vorträge und mehr:
15:30 Was ist Widersetzen und was haben wir in Erfurt vor
16:00 Tanzperformanz von Gabi aus Köln
16:30 GEAS Reform (Seebrücke)
17:00 Autoreparatur ohne Macker (Lacks)
18:00 AZ Zukunft

Bewegung:
14:30 Krav Maga
15:30 Improteather
16:30 Muay Thai

Konzerte:
19:30 Bronko
20:45 LATURB

Party
Konzertraum
23:00-00:30 Tiare
00:30-02:00 Schepperschwester
02:00-05:00 Joulez B2B agoracora

3er Garage
22:00 Floor Chor
22:30 Lola Moon
00:00 Marius stimmt
01:30 be là
03:00 lauronski
04:30 lupo b2b dj groschen
CLASS:PUBLIC
DTSTART;VALUE=DATE:20260425
DTEND;VALUE=DATE:20260426
DTSTAMP:20260421T161500
GEO:50.923752\;6.936474
END:VEVENT
END:VCALENDAR
