BEGIN:VCALENDAR
VERSION:2.0
PRODID:Bierschinken Eventkalender
METHOD:PUBLISH
BEGIN:VEVENT
UID:jmh@bierschinken.net
TZID:Europe/Berlin
LOCATION:AZ Mülheim\, Auerstr. 51\, 45468 Mülheim/Ruhr
SUMMARY:38 Jahre Marius Horstmann in Mülheim/Ruhr
DESCRIPTION:http://www.bierschinken.net/event/jmh


CLASS:PUBLIC
DTSTART;VALUE=DATE:20261017
DTEND;VALUE=DATE:20261018
DTSTAMP:20260424T154700
GEO:51.432999\;6.88031
END:VEVENT
END:VCALENDAR
