BEGIN:VCALENDAR
VERSION:2.0
PRODID:Bierschinken Eventkalender
METHOD:PUBLISH
BEGIN:VEVENT
UID:poison-ruin-utrecht@bierschinken.net
TZID:Europe/Berlin
LOCATION:DB's studio\, Rondom 100\, 3534 Utrecht (NL)
SUMMARY:Poison Ruin in Utrecht (NL)
DESCRIPTION:http://www.bierschinken.net/event/poison-ruin-utrecht


CLASS:PUBLIC
DTSTART;VALUE=DATE:20260701
DTEND;VALUE=DATE:20260702
DTSTAMP:20260410T170300
GEO:52.101177\;5.089405
END:VEVENT
END:VCALENDAR
