BEGIN:VCALENDAR
VERSION:2.0
PRODID:Bierschinken Eventkalender
METHOD:PUBLISH
BEGIN:VEVENT
UID:recovery-day-duesseldorf@bierschinken.net
TZID:Europe/Berlin
LOCATION:Nilsson\, Martinstr. 58\, 40223 Düsseldorf
SUMMARY:Recovery Day in Düsseldorf
DESCRIPTION:http://www.bierschinken.net/event/recovery-day-duesseldorf

Klemme Fatale presents: Recovery Day + Antimuse

Sat\, 25.4.26
Recovery Day
(Slowcore/ Slacker-Rock from Bonn & Cologne)
https://analognostalgiabooking.bandcamp.com/album/first-time-ive-been-outside-in-weeks

Antimuse (Synth Pop from Düsseldorf)
https://antimusemusic.bandcamp.com/album/epimetheus-ep

Doors: 19:00
Start: 20:00
Nilsson\, Martinstr. 58\, Düsseldorf
CLASS:PUBLIC
DTSTART;VALUE=DATE:20260425
DTEND;VALUE=DATE:20260426
DTSTAMP:20260415T082800
GEO:51.207966\;6.764466
END:VEVENT
END:VCALENDAR
