BEGIN:VCALENDAR
VERSION:2.0
PRODID:Bierschinken Eventkalender
METHOD:PUBLISH
BEGIN:VEVENT
UID:rote-flora-punk-fest@bierschinken.net
TZID:Europe/Berlin
LOCATION:Rote Flora\, Achidi-John-Platz 1\, 20357 Hamburg
SUMMARY:Rote Flora Punk Fest in Hamburg
DESCRIPTION:http://www.bierschinken.net/event/rote-flora-punk-fest


CLASS:PUBLIC
DTSTART;VALUE=DATE:20260514
DTEND;VALUE=DATE:20260515
DTSTAMP:20260414T215900
GEO:53.562084\;9.961457
END:VEVENT
END:VCALENDAR
