BEGIN:VCALENDAR
VERSION:2.0
PRODID:Bierschinken Eventkalender
METHOD:PUBLISH
BEGIN:VEVENT
UID:tavaril-festival@bierschinken.net
TZID:Europe/Berlin
LOCATION:Heeselichtmühle\, Stolpen
SUMMARY:Tavaril Festival in Stolpen
DESCRIPTION:http://www.bierschinken.net/event/tavaril-festival

https://tavaril.de
CLASS:PUBLIC
DTSTART;VALUE=DATE:20260605
DTEND;VALUE=DATE:20260606
DTSTAMP:20260412T143400
END:VEVENT
END:VCALENDAR
