BEGIN:VCALENDAR
VERSION:2.0
PRODID:Bierschinken Eventkalender
METHOD:PUBLISH
BEGIN:VEVENT
UID:the-guilt-darmstadt@bierschinken.net
TZID:Europe/Berlin
LOCATION:Oetinger Villa\, Kranichsteiner Straße 81\, 64289 Darmstadt
SUMMARY:The Guilt in Darmstadt
DESCRIPTION:http://www.bierschinken.net/event/the-guilt-darmstadt


CLASS:PUBLIC
DTSTART;VALUE=DATE:20260502
DTEND;VALUE=DATE:20260503
DTSTAMP:20260323T170200
GEO:49.883072\;8.66729
END:VEVENT
END:VCALENDAR
