BEGIN:VCALENDAR
VERSION:2.0
PRODID:Bierschinken Eventkalender
METHOD:PUBLISH
BEGIN:VEVENT
UID:wasabi-riot-flensburg@bierschinken.net
TZID:Europe/Berlin
LOCATION:Hafermarkt\, Heinrichstrasse 8\, 24937 Flensburg
SUMMARY:Wasabi Riot in Flensburg
DESCRIPTION:http://www.bierschinken.net/event/wasabi-riot-flensburg


CLASS:PUBLIC
DTSTART;VALUE=DATE:20260424
DTEND;VALUE=DATE:20260425
DTSTAMP:20260411T125700
GEO:54.781876\;9.441274
END:VEVENT
END:VCALENDAR
