BEGIN:VCALENDAR
VERSION:2.0
PRODID:Bierschinken Eventkalender
METHOD:PUBLISH
BEGIN:VEVENT
UID:wax-head-dortmund@bierschinken.net
TZID:Europe/Berlin
LOCATION:Subrosa\, Gneisenaustr. 56\, 44147 Dortmund
SUMMARY:Wax Head in Dortmund
DESCRIPTION:http://www.bierschinken.net/event/wax-head-dortmund

Tickets: VVK 12 € | AK 15 €
https://rausgegangen.de/events/harbour-sounds-prasentiert-wax-headmanchesteruk-0/
CLASS:PUBLIC
DTSTART;VALUE=DATE:20260421
DTEND;VALUE=DATE:20260422
DTSTAMP:20260317T084800
GEO:51.521477\;7.448555
END:VEVENT
END:VCALENDAR
